BEGIN:VCALENDAR
VERSION:2.0
PRODID:-//Web Done Well//Calendar Export//EN
CALSCALE:GREGORIAN
BEGIN:VEVENT
UID:event-5550@mycentreclub.com
DTSTAMP:20260425T114301Z
DTSTART:20260505T233000Z
DTEND:20260506T013000Z
SUMMARY:Artisian Tequila &#8211\; Don Fulano
DESCRIPTION:Join us for a guided tequila tasting featuring Don Fulano\, where you’ll explore each expression in an interactive setting. Enjoy light bites thoughtfully paired to complement your pour.
LOCATION:Weston Centre\, 112 E Pecan Street\, 30th Floor San Antonio\, TX
END:VEVENT
END:VCALENDAR
